BEGIN:VCALENDAR
VERSION:2.0
PRODID:-//Tukios.com/
BEGIN:VEVENT
UID:105faeaf-6a69-4e7f-bc30-7b52df5c2a8b@www.daggettfuneral.com
DTSTAMP:20260419T233040Z
DTSTART:20260423T150000Z
DTEND:20260423T160000Z
SUMMARY:Funeral Service
DESCRIPTION:
URL:https://www.daggettfuneral.com/obituaries/rex-winter
LOCATION:Daggett Gilbert Funeral Homes 13985 Northland Dr  Big Rapids MI 
	49307
GEO:43.6691659;-85.484211
END:VEVENT
END:VCALENDAR