BEGIN:VCALENDAR
VERSION:2.0
PRODID:-//Tukios.com/
BEGIN:VEVENT
UID:1eb0ee81-aa1e-41bd-aa46-c1f055b5b15e@www.daggettfuneral.com
DTSTAMP:20260419T232851Z
DTSTART:20260423T140000Z
DTEND:20260423T150000Z
SUMMARY:Visitation
DESCRIPTION:
URL:https://www.daggettfuneral.com/obituaries/rex-winter
LOCATION:Daggett Gilbert Funeral Homes 13985 Northland Dr  Big Rapids MI 
	49307
GEO:43.6691659;-85.484211
END:VEVENT
END:VCALENDAR