BEGIN:VCALENDAR
VERSION:2.0
PRODID:-//Tukios.com/
BEGIN:VEVENT
UID:ed5f94d5-6366-494a-a1e7-c6bdb49d7b22@www.daggettfuneral.com
DTSTAMP:20260420T215907Z
DTSTART:20260425T140000Z
DTEND:20260425T160000Z
SUMMARY:Visitation
DESCRIPTION:
URL:https://www.daggettfuneral.com/obituaries/kevin-cole
LOCATION: 13985 Northland Dr  Big Rapids MI 49307
GEO:43.6691659;-85.484211
END:VEVENT
END:VCALENDAR