BEGIN:VCALENDAR
VERSION:2.0
PRODID:-//Tukios.com/
BEGIN:VEVENT
UID:4a1813e0-751c-4afa-aecd-fef87e958448@www.daggettfuneral.com
DTSTAMP:20260420T215849Z
DTSTART:20260425T160000Z
DTEND:20260425T170000Z
SUMMARY:Funeral Service
DESCRIPTION:
URL:https://www.daggettfuneral.com/obituaries/kevin-cole
LOCATION: 13985 Northland Dr  Big Rapids MI 49307
GEO:43.6691659;-85.484211
END:VEVENT
END:VCALENDAR