BEGIN:VCALENDAR
VERSION:2.0
PRODID:-//Tukios.com/
BEGIN:VEVENT
UID:9cd6ec38-4089-4705-840b-1fe0f87b483a@www.daggettfuneral.com
DTSTAMP:20260419T233027Z
DTSTART:20260424T150000Z
DTEND:20260424T160000Z
SUMMARY:Funeral Service
DESCRIPTION:
URL:https://www.daggettfuneral.com/obituaries/jean-benson
LOCATION:Bethel Lutheran Church 18645 West Howard City-Edmore  Howard 
	City MI 49329
GEO:43.4310656;-85.4548343
END:VEVENT
END:VCALENDAR