BEGIN:VCALENDAR
VERSION:2.0
PRODID:-//Tukios.com/
BEGIN:VEVENT
UID:a2550b64-a8aa-4a92-b6c1-c7832bf0b01a@www.daggettfuneral.com
DTSTAMP:20260419T232851Z
DTSTART:20260423T200000Z
DTEND:20260423T230000Z
SUMMARY:Visitation
DESCRIPTION:
URL:https://www.daggettfuneral.com/obituaries/jean-benson
LOCATION:Daggett Gilbert Funeral Homes 13985 Northland Dr  Big Rapids MI 
	49307
GEO:43.6691659;-85.484211
END:VEVENT
END:VCALENDAR